BEGIN:VCALENDAR
VERSION:2.0
PRODID:-//hacksw/handcal//NONSGML v1.0//EN
BEGIN:VEVENT
DTSTAMP:20251208T140000Z
DTSTART:20251208T140000Z
DTEND:20251208T140000Z
SUMMARY: Sitzung des Haupt- und Finanzausschusses
END:VEVENT
END:VCALENDAR
