BEGIN:VCALENDAR
VERSION:2.0
PRODID:-//hacksw/handcal//NONSGML v1.0//EN
BEGIN:VEVENT
DTSTAMP:20251203T170000Z
DTSTART:20251203T170000Z
DTEND:20251203T170000Z
SUMMARY:Sitzung des Ausschusses für Schule, Bildung und Kultur 
END:VEVENT
END:VCALENDAR
